BEGIN:VCALENDAR
VERSION:2.0
PRODID:-//RABC-CCCR  - ECPv6.15.20//NONSGML v1.0//EN
CALSCALE:GREGORIAN
METHOD:PUBLISH
X-WR-CALNAME:RABC-CCCR 
X-ORIGINAL-URL:https://www.rabc-cccr.ca
X-WR-CALDESC:Events for RABC-CCCR 
REFRESH-INTERVAL;VALUE=DURATION:PT1H
X-Robots-Tag:noindex
X-PUBLISHED-TTL:PT1H
BEGIN:VTIMEZONE
TZID:America/Toronto
BEGIN:DAYLIGHT
TZOFFSETFROM:-0500
TZOFFSETTO:-0400
TZNAME:EDT
DTSTART:20160313T070000
END:DAYLIGHT
BEGIN:STANDARD
TZOFFSETFROM:-0400
TZOFFSETTO:-0500
TZNAME:EST
DTSTART:20161106T060000
END:STANDARD
BEGIN:DAYLIGHT
TZOFFSETFROM:-0500
TZOFFSETTO:-0400
TZNAME:EDT
DTSTART:20170312T070000
END:DAYLIGHT
BEGIN:STANDARD
TZOFFSETFROM:-0400
TZOFFSETTO:-0500
TZNAME:EST
DTSTART:20171105T060000
END:STANDARD
BEGIN:DAYLIGHT
TZOFFSETFROM:-0500
TZOFFSETTO:-0400
TZNAME:EDT
DTSTART:20180311T070000
END:DAYLIGHT
BEGIN:STANDARD
TZOFFSETFROM:-0400
TZOFFSETTO:-0500
TZNAME:EST
DTSTART:20181104T060000
END:STANDARD
END:VTIMEZONE
BEGIN:VEVENT
DTSTART;TZID=America/Toronto:20171106T130000
DTEND;TZID=America/Toronto:20171106T143000
DTSTAMP:20260422T074653
CREATED:20171023T142047Z
LAST-MODIFIED:20171023T142047Z
UID:10000011-1509973200-1509978600@www.rabc-cccr.ca
SUMMARY:RABC Study Group (SLPB-001-17)
DESCRIPTION:
URL:https://www.rabc-cccr.ca/event/rabc-study-group-slpb-001-17-3/
LOCATION:RABC\, Unit 811\, 116 Albert Street\, Ottawa\, Ontario\, K1P 5G2\, Canada
CATEGORIES:RABC Study Group
END:VEVENT
BEGIN:VEVENT
DTSTART;TZID=America/Toronto:20171020T130000
DTEND;TZID=America/Toronto:20171020T143000
DTSTAMP:20260422T074653
CREATED:20171010T173021Z
LAST-MODIFIED:20171010T173021Z
UID:10000005-1508504400-1508509800@www.rabc-cccr.ca
SUMMARY:RABC Study Group (SLPB-001-17)
DESCRIPTION:
URL:https://www.rabc-cccr.ca/event/rabc-study-group-slpb-001-17-2/
LOCATION:Ontario
CATEGORIES:RABC Study Group
END:VEVENT
BEGIN:VEVENT
DTSTART;TZID=America/Toronto:20171006T110000
DTEND;TZID=America/Toronto:20171006T120000
DTSTAMP:20260422T074653
CREATED:20171002T194110Z
LAST-MODIFIED:20171002T194110Z
UID:10000003-1507287600-1507291200@www.rabc-cccr.ca
SUMMARY:RABC Study Group (SLPB-001-17)
DESCRIPTION:
URL:https://www.rabc-cccr.ca/event/rabc-study-group-slpb-001-17/
LOCATION:Ontario
CATEGORIES:RABC Study Group
END:VEVENT
END:VCALENDAR