BEGIN:VCALENDAR
VERSION:2.0
PRODID:-//RABC-CCCR  - ECPv6.15.20//NONSGML v1.0//EN
CALSCALE:GREGORIAN
METHOD:PUBLISH
X-WR-CALNAME:RABC-CCCR 
X-ORIGINAL-URL:https://www.rabc-cccr.ca
X-WR-CALDESC:Events for RABC-CCCR 
REFRESH-INTERVAL;VALUE=DURATION:PT1H
X-Robots-Tag:noindex
X-PUBLISHED-TTL:PT1H
BEGIN:VTIMEZONE
TZID:America/Toronto
BEGIN:DAYLIGHT
TZOFFSETFROM:-0500
TZOFFSETTO:-0400
TZNAME:EDT
DTSTART:20190310T070000
END:DAYLIGHT
BEGIN:STANDARD
TZOFFSETFROM:-0400
TZOFFSETTO:-0500
TZNAME:EST
DTSTART:20191103T060000
END:STANDARD
BEGIN:DAYLIGHT
TZOFFSETFROM:-0500
TZOFFSETTO:-0400
TZNAME:EDT
DTSTART:20200308T070000
END:DAYLIGHT
BEGIN:STANDARD
TZOFFSETFROM:-0400
TZOFFSETTO:-0500
TZNAME:EST
DTSTART:20201101T060000
END:STANDARD
BEGIN:DAYLIGHT
TZOFFSETFROM:-0500
TZOFFSETTO:-0400
TZNAME:EDT
DTSTART:20210314T070000
END:DAYLIGHT
BEGIN:STANDARD
TZOFFSETFROM:-0400
TZOFFSETTO:-0500
TZNAME:EST
DTSTART:20211107T060000
END:STANDARD
END:VTIMEZONE
BEGIN:VEVENT
DTSTART;TZID=America/Toronto:20201006T130000
DTEND;TZID=America/Toronto:20201006T150000
DTSTAMP:20260423T183547
CREATED:20200909T171416Z
LAST-MODIFIED:20200909T171416Z
UID:10000272-1601989200-1601996400@www.rabc-cccr.ca
SUMMARY:Review of SLPB-002-20
DESCRIPTION:Review of SLPB-002-20
URL:https://www.rabc-cccr.ca/event/review-of-slpb-002-20-6/
CATEGORIES:RABC Review
END:VEVENT
BEGIN:VEVENT
DTSTART;TZID=America/Toronto:20201008T133000
DTEND;TZID=America/Toronto:20201008T150000
DTSTAMP:20260423T183547
CREATED:20200923T211210Z
LAST-MODIFIED:20200923T211210Z
UID:10000276-1602163800-1602169200@www.rabc-cccr.ca
SUMMARY:Safety Code 6 Subcommittee
DESCRIPTION:Safety Code 6 Subcommittee
URL:https://www.rabc-cccr.ca/event/safety-code-6-subcommittee-2/
CATEGORIES:Committee Meeting
END:VEVENT
BEGIN:VEVENT
DTSTART;TZID=America/Toronto:20201009T130000
DTEND;TZID=America/Toronto:20201009T150000
DTSTAMP:20260423T183547
CREATED:20201009T191838Z
LAST-MODIFIED:20201009T191838Z
UID:10000278-1602248400-1602255600@www.rabc-cccr.ca
SUMMARY:Review of SLPB-002-20
DESCRIPTION:Review of SLPB-002-20
URL:https://www.rabc-cccr.ca/event/review-of-slpb-002-20-8/
CATEGORIES:RABC Review
END:VEVENT
BEGIN:VEVENT
DTSTART;TZID=America/Toronto:20201013T130000
DTEND;TZID=America/Toronto:20201013T150000
DTSTAMP:20260423T183547
CREATED:20200909T171450Z
LAST-MODIFIED:20200909T171450Z
UID:10000273-1602594000-1602601200@www.rabc-cccr.ca
SUMMARY:Review of SLPB-002-20
DESCRIPTION:Review of SLPB-002-20
URL:https://www.rabc-cccr.ca/event/review-of-slpb-002-20-7/
CATEGORIES:RABC Review
END:VEVENT
BEGIN:VEVENT
DTSTART;TZID=America/Toronto:20201016T130000
DTEND;TZID=America/Toronto:20201016T150000
DTSTAMP:20260423T183547
CREATED:20201009T192017Z
LAST-MODIFIED:20201009T192017Z
UID:10000279-1602853200-1602860400@www.rabc-cccr.ca
SUMMARY:Review of SLPB-002-20
DESCRIPTION:Review of SLPB-002-20
URL:https://www.rabc-cccr.ca/event/review-of-slpb-002-20-9/
CATEGORIES:RABC Review
END:VEVENT
BEGIN:VEVENT
DTSTART;TZID=America/Toronto:20201020T130000
DTEND;TZID=America/Toronto:20201020T150000
DTSTAMP:20260423T183547
CREATED:20201015T192733Z
LAST-MODIFIED:20201015T192733Z
UID:10000280-1603198800-1603206000@www.rabc-cccr.ca
SUMMARY:Review SLPB-002-20
DESCRIPTION:Review SLPB-002-20
URL:https://www.rabc-cccr.ca/event/review-slpb-002-20/
CATEGORIES:RABC Review
END:VEVENT
END:VCALENDAR