BEGIN:VCALENDAR
VERSION:2.0
PRODID:-//RABC-CCCR  - ECPv6.15.20//NONSGML v1.0//EN
CALSCALE:GREGORIAN
METHOD:PUBLISH
X-WR-CALNAME:RABC-CCCR 
X-ORIGINAL-URL:https://www.rabc-cccr.ca
X-WR-CALDESC:Events for RABC-CCCR 
REFRESH-INTERVAL;VALUE=DURATION:PT1H
X-Robots-Tag:noindex
X-PUBLISHED-TTL:PT1H
BEGIN:VTIMEZONE
TZID:America/Toronto
BEGIN:DAYLIGHT
TZOFFSETFROM:-0500
TZOFFSETTO:-0400
TZNAME:EDT
DTSTART:20190310T070000
END:DAYLIGHT
BEGIN:STANDARD
TZOFFSETFROM:-0400
TZOFFSETTO:-0500
TZNAME:EST
DTSTART:20191103T060000
END:STANDARD
BEGIN:DAYLIGHT
TZOFFSETFROM:-0500
TZOFFSETTO:-0400
TZNAME:EDT
DTSTART:20200308T070000
END:DAYLIGHT
BEGIN:STANDARD
TZOFFSETFROM:-0400
TZOFFSETTO:-0500
TZNAME:EST
DTSTART:20201101T060000
END:STANDARD
BEGIN:DAYLIGHT
TZOFFSETFROM:-0500
TZOFFSETTO:-0400
TZNAME:EDT
DTSTART:20210314T070000
END:DAYLIGHT
BEGIN:STANDARD
TZOFFSETFROM:-0400
TZOFFSETTO:-0500
TZNAME:EST
DTSTART:20211107T060000
END:STANDARD
END:VTIMEZONE
BEGIN:VEVENT
DTSTART;TZID=America/Toronto:20201201T130000
DTEND;TZID=America/Toronto:20201201T143000
DTSTAMP:20260423T155547
CREATED:20201124T190527Z
LAST-MODIFIED:20201124T190527Z
UID:10000282-1606827600-1606833000@www.rabc-cccr.ca
SUMMARY:GL-10 Workshop
DESCRIPTION:GL-10 Workshop
URL:https://www.rabc-cccr.ca/event/gl-10-workshop/
CATEGORIES:Workshop
END:VEVENT
BEGIN:VEVENT
DTSTART;TZID=America/Toronto:20201202T150000
DTEND;TZID=America/Toronto:20201202T163000
DTSTAMP:20260423T155547
CREATED:20201126T155650Z
LAST-MODIFIED:20201126T155650Z
UID:10000284-1606921200-1606926600@www.rabc-cccr.ca
SUMMARY:Review of SMSE-014-20
DESCRIPTION:Review of SMSE-014-20
URL:https://www.rabc-cccr.ca/event/review-of-smse-014-20/
CATEGORIES:RABC Review
END:VEVENT
BEGIN:VEVENT
DTSTART;TZID=America/Toronto:20201208T130000
DTEND;TZID=America/Toronto:20201208T143000
DTSTAMP:20260423T155547
CREATED:20201124T190601Z
LAST-MODIFIED:20201124T190601Z
UID:10000283-1607432400-1607437800@www.rabc-cccr.ca
SUMMARY:GL-10 Workshop
DESCRIPTION:GL-10 Workshop
URL:https://www.rabc-cccr.ca/event/gl-10-workshop-2/
CATEGORIES:Workshop
END:VEVENT
BEGIN:VEVENT
DTSTART;TZID=America/Toronto:20201209T140000
DTEND;TZID=America/Toronto:20201209T160000
DTSTAMP:20260423T155547
CREATED:20201126T155742Z
LAST-MODIFIED:20201126T155742Z
UID:10000124-1607522400-1607529600@www.rabc-cccr.ca
SUMMARY:Review of SMSE-014-20
DESCRIPTION:Review of SMSE-014-20
URL:https://www.rabc-cccr.ca/event/review-of-smse-014-20-2/
CATEGORIES:RABC Review
END:VEVENT
BEGIN:VEVENT
DTSTART;TZID=America/Toronto:20201221T140000
DTEND;TZID=America/Toronto:20201221T160000
DTSTAMP:20260423T155547
CREATED:20201126T155828Z
LAST-MODIFIED:20201126T155828Z
UID:10000126-1608559200-1608566400@www.rabc-cccr.ca
SUMMARY:Review of SMSE-014-20
DESCRIPTION:Review of SMSE-014-20
URL:https://www.rabc-cccr.ca/event/review-of-smse-014-20-3/
CATEGORIES:RABC Review
END:VEVENT
END:VCALENDAR