BEGIN:VCALENDAR
VERSION:2.0
PRODID:-//RABC-CCCR  - ECPv6.15.20//NONSGML v1.0//EN
CALSCALE:GREGORIAN
METHOD:PUBLISH
X-ORIGINAL-URL:https://www.rabc-cccr.ca
X-WR-CALDESC:Events for RABC-CCCR 
REFRESH-INTERVAL;VALUE=DURATION:PT1H
X-Robots-Tag:noindex
X-PUBLISHED-TTL:PT1H
BEGIN:VTIMEZONE
TZID:America/Toronto
BEGIN:DAYLIGHT
TZOFFSETFROM:-0500
TZOFFSETTO:-0400
TZNAME:EDT
DTSTART:20200308T070000
END:DAYLIGHT
BEGIN:STANDARD
TZOFFSETFROM:-0400
TZOFFSETTO:-0500
TZNAME:EST
DTSTART:20201101T060000
END:STANDARD
BEGIN:DAYLIGHT
TZOFFSETFROM:-0500
TZOFFSETTO:-0400
TZNAME:EDT
DTSTART:20210314T070000
END:DAYLIGHT
BEGIN:STANDARD
TZOFFSETFROM:-0400
TZOFFSETTO:-0500
TZNAME:EST
DTSTART:20211107T060000
END:STANDARD
BEGIN:DAYLIGHT
TZOFFSETFROM:-0500
TZOFFSETTO:-0400
TZNAME:EDT
DTSTART:20220313T070000
END:DAYLIGHT
BEGIN:STANDARD
TZOFFSETFROM:-0400
TZOFFSETTO:-0500
TZNAME:EST
DTSTART:20221106T060000
END:STANDARD
END:VTIMEZONE
BEGIN:VEVENT
DTSTART;TZID=America/Toronto:20210303T080000
DTEND;TZID=America/Toronto:20210303T170000
DTSTAMP:20260423T084815
CREATED:20200510T193258Z
LAST-MODIFIED:20200510T193258Z
UID:10000253-1614758400-1614790800@www.rabc-cccr.ca
SUMMARY:Executive Committee
DESCRIPTION:Executive Committee
URL:https://www.rabc-cccr.ca/event/executive-committee-14/
CATEGORIES:Committee Meeting
END:VEVENT
BEGIN:VEVENT
DTSTART;TZID=America/Toronto:20210304T080000
DTEND;TZID=America/Toronto:20210304T170000
DTSTAMP:20260423T084815
CREATED:20200510T193342Z
LAST-MODIFIED:20200510T193342Z
UID:10000254-1614844800-1614877200@www.rabc-cccr.ca
SUMMARY:Quarterly Meeting
DESCRIPTION:Quarterly Meeting
URL:https://www.rabc-cccr.ca/event/quarterly-meeting-10/
CATEGORIES:Quarterly Meeting
END:VEVENT
BEGIN:VEVENT
DTSTART;TZID=America/Toronto:20210316T133000
DTEND;TZID=America/Toronto:20210316T143000
DTSTAMP:20260423T084815
CREATED:20210310T163410Z
LAST-MODIFIED:20210310T163410Z
UID:10000138-1615901400-1615905000@www.rabc-cccr.ca
SUMMARY:Safety Code 6 Subcommittee
DESCRIPTION:Safety Code 6 Subcommittee
URL:https://www.rabc-cccr.ca/event/safety-code-6-subcommittee-3/
CATEGORIES:Committee Meeting
END:VEVENT
BEGIN:VEVENT
DTSTART;TZID=America/Toronto:20210324T130000
DTEND;TZID=America/Toronto:20210324T143000
DTSTAMP:20260423T084815
CREATED:20210318T013001Z
LAST-MODIFIED:20210318T013001Z
UID:10000285-1616590800-1616596200@www.rabc-cccr.ca
SUMMARY:Review of White Spaces Standards
DESCRIPTION:Review of White Spaces Standards
URL:https://www.rabc-cccr.ca/event/review-of-white-spaces-standards/
CATEGORIES:RABC Review
END:VEVENT
END:VCALENDAR