BEGIN:VCALENDAR
VERSION:2.0
PRODID:-//RABC-CCCR  - ECPv6.15.20//NONSGML v1.0//EN
CALSCALE:GREGORIAN
METHOD:PUBLISH
X-ORIGINAL-URL:https://www.rabc-cccr.ca
X-WR-CALDESC:Events for RABC-CCCR 
REFRESH-INTERVAL;VALUE=DURATION:PT1H
X-Robots-Tag:noindex
X-PUBLISHED-TTL:PT1H
BEGIN:VTIMEZONE
TZID:America/Toronto
BEGIN:DAYLIGHT
TZOFFSETFROM:-0500
TZOFFSETTO:-0400
TZNAME:EDT
DTSTART:20200308T070000
END:DAYLIGHT
BEGIN:STANDARD
TZOFFSETFROM:-0400
TZOFFSETTO:-0500
TZNAME:EST
DTSTART:20201101T060000
END:STANDARD
BEGIN:DAYLIGHT
TZOFFSETFROM:-0500
TZOFFSETTO:-0400
TZNAME:EDT
DTSTART:20210314T070000
END:DAYLIGHT
BEGIN:STANDARD
TZOFFSETFROM:-0400
TZOFFSETTO:-0500
TZNAME:EST
DTSTART:20211107T060000
END:STANDARD
BEGIN:DAYLIGHT
TZOFFSETFROM:-0500
TZOFFSETTO:-0400
TZNAME:EDT
DTSTART:20220313T070000
END:DAYLIGHT
BEGIN:STANDARD
TZOFFSETFROM:-0400
TZOFFSETTO:-0500
TZNAME:EST
DTSTART:20221106T060000
END:STANDARD
END:VTIMEZONE
BEGIN:VEVENT
DTSTART;TZID=America/Toronto:20211201T130000
DTEND;TZID=America/Toronto:20211201T160000
DTSTAMP:20260422T172001
CREATED:20210318T013306Z
LAST-MODIFIED:20210318T013306Z
UID:10000287-1638363600-1638374400@www.rabc-cccr.ca
SUMMARY:Executive Committee
DESCRIPTION:Executive Committee
URL:https://www.rabc-cccr.ca/event/executive-committee-16/
CATEGORIES:Committee Meeting
END:VEVENT
BEGIN:VEVENT
DTSTART;TZID=America/Toronto:20211214T140000
DTEND;TZID=America/Toronto:20211214T153000
DTSTAMP:20260422T172001
CREATED:20211207T214609Z
LAST-MODIFIED:20211207T214609Z
UID:10000142-1639490400-1639495800@www.rabc-cccr.ca
SUMMARY:EMC Committee
DESCRIPTION:EMC Committee
URL:https://www.rabc-cccr.ca/event/emc-committee-4/
CATEGORIES:Committee Meeting
END:VEVENT
BEGIN:VEVENT
DTSTART;TZID=America/Toronto:20211216T130000
DTEND;TZID=America/Toronto:20211216T150000
DTSTAMP:20260422T172001
CREATED:20211210T041210Z
LAST-MODIFIED:20211210T041210Z
UID:10000144-1639659600-1639666800@www.rabc-cccr.ca
SUMMARY:RABC Working Group on co-existence of radio altimeters & 5G (kick-off meeting)
DESCRIPTION:RABC Working Group on co-existence of radio altimeters & 5G (kick-off meeting)
URL:https://www.rabc-cccr.ca/event/rabc-working-group-on-co-existence-of-radio-altimeters-5g-kick-off-meeting/
CATEGORIES:RABC Working Group
END:VEVENT
END:VCALENDAR