BEGIN:VCALENDAR
VERSION:2.0
PRODID:-//RABC-CCCR  - ECPv6.15.20//NONSGML v1.0//EN
CALSCALE:GREGORIAN
METHOD:PUBLISH
X-WR-CALNAME:RABC-CCCR 
X-ORIGINAL-URL:https://www.rabc-cccr.ca
X-WR-CALDESC:Events for RABC-CCCR 
REFRESH-INTERVAL;VALUE=DURATION:PT1H
X-Robots-Tag:noindex
X-PUBLISHED-TTL:PT1H
BEGIN:VTIMEZONE
TZID:America/Toronto
BEGIN:DAYLIGHT
TZOFFSETFROM:-0500
TZOFFSETTO:-0400
TZNAME:EDT
DTSTART:20210314T070000
END:DAYLIGHT
BEGIN:STANDARD
TZOFFSETFROM:-0400
TZOFFSETTO:-0500
TZNAME:EST
DTSTART:20211107T060000
END:STANDARD
BEGIN:DAYLIGHT
TZOFFSETFROM:-0500
TZOFFSETTO:-0400
TZNAME:EDT
DTSTART:20220313T070000
END:DAYLIGHT
BEGIN:STANDARD
TZOFFSETFROM:-0400
TZOFFSETTO:-0500
TZNAME:EST
DTSTART:20221106T060000
END:STANDARD
BEGIN:DAYLIGHT
TZOFFSETFROM:-0500
TZOFFSETTO:-0400
TZNAME:EDT
DTSTART:20230312T070000
END:DAYLIGHT
BEGIN:STANDARD
TZOFFSETFROM:-0400
TZOFFSETTO:-0500
TZNAME:EST
DTSTART:20231105T060000
END:STANDARD
END:VTIMEZONE
BEGIN:VEVENT
DTSTART;TZID=America/Toronto:20220202T093000
DTEND;TZID=America/Toronto:20220202T110000
DTSTAMP:20260422T142704
CREATED:20220124T180616Z
LAST-MODIFIED:20220124T180616Z
UID:10000147-1643794200-1643799600@www.rabc-cccr.ca
SUMMARY:RABC Review of RSS-102\, SPR-002
DESCRIPTION:RABC Review of RSS-102\, SPR-002
URL:https://www.rabc-cccr.ca/event/rabc-review-of-rss-102-spr-002/
CATEGORIES:RABC Review
END:VEVENT
BEGIN:VEVENT
DTSTART;TZID=America/Toronto:20220208T093000
DTEND;TZID=America/Toronto:20220208T110000
DTSTAMP:20260422T142704
CREATED:20220207T191151Z
LAST-MODIFIED:20220207T191151Z
UID:10000304-1644312600-1644318000@www.rabc-cccr.ca
SUMMARY:RABC review of RSS-102\, SPR-002\, Issue 2 (Call #2)
DESCRIPTION:RABC review of RSS-102\, SPR-002\, Issue 2 (Call #2)
URL:https://www.rabc-cccr.ca/event/rabc-review-of-rss-102-spr-002-issue-2-call-2/
CATEGORIES:RABC Review
END:VEVENT
BEGIN:VEVENT
DTSTART;TZID=America/Toronto:20220214T140000
DTEND;TZID=America/Toronto:20220214T160000
DTSTAMP:20260422T142704
CREATED:20220202T184240Z
LAST-MODIFIED:20220202T184240Z
UID:10000302-1644847200-1644854400@www.rabc-cccr.ca
SUMMARY:Review of SMSE-006-22
DESCRIPTION:Review of SMSE-006-22
URL:https://www.rabc-cccr.ca/event/review-of-smse-006-22/
CATEGORIES:RABC Review
END:VEVENT
BEGIN:VEVENT
DTSTART;TZID=America/Toronto:20220216T130000
DTEND;TZID=America/Toronto:20220216T150000
DTSTAMP:20260422T142704
CREATED:20220131T201323Z
LAST-MODIFIED:20220131T201323Z
UID:10000301-1645016400-1645023600@www.rabc-cccr.ca
SUMMARY:5G/Radio Altimeter Working Group
DESCRIPTION:5G/Radio Altimeter Working Group
URL:https://www.rabc-cccr.ca/event/5g-radio-altimeter-working-group-2/
CATEGORIES:RABC Working Group
END:VEVENT
BEGIN:VEVENT
DTSTART;TZID=America/Toronto:20220223T130000
DTEND;TZID=America/Toronto:20220223T150000
DTSTAMP:20260422T142704
CREATED:20220218T202424Z
LAST-MODIFIED:20220218T202424Z
UID:10000305-1645621200-1645628400@www.rabc-cccr.ca
SUMMARY:5G Radio Altimeter Working Group
DESCRIPTION:5G Radio Altimeter Working Group
URL:https://www.rabc-cccr.ca/event/5g-radio-altimeter-working-group-3/
CATEGORIES:RABC Working Group
END:VEVENT
BEGIN:VEVENT
DTSTART;TZID=America/Toronto:20220228T140000
DTEND;TZID=America/Toronto:20220228T160000
DTSTAMP:20260422T142704
CREATED:20220202T184323Z
LAST-MODIFIED:20220202T184323Z
UID:10000303-1646056800-1646064000@www.rabc-cccr.ca
SUMMARY:Review of SMSE-006-22
DESCRIPTION:Review of SMSE-006-22
URL:https://www.rabc-cccr.ca/event/review-of-smse-006-22-2/
CATEGORIES:RABC Review
END:VEVENT
END:VCALENDAR