BEGIN:VCALENDAR
VERSION:2.0
PRODID:-//RABC-CCCR  - ECPv6.15.20//NONSGML v1.0//EN
CALSCALE:GREGORIAN
METHOD:PUBLISH
X-WR-CALNAME:RABC-CCCR 
X-ORIGINAL-URL:https://www.rabc-cccr.ca
X-WR-CALDESC:Events for RABC-CCCR 
REFRESH-INTERVAL;VALUE=DURATION:PT1H
X-Robots-Tag:noindex
X-PUBLISHED-TTL:PT1H
BEGIN:VTIMEZONE
TZID:America/Toronto
BEGIN:DAYLIGHT
TZOFFSETFROM:-0500
TZOFFSETTO:-0400
TZNAME:EDT
DTSTART:20210314T070000
END:DAYLIGHT
BEGIN:STANDARD
TZOFFSETFROM:-0400
TZOFFSETTO:-0500
TZNAME:EST
DTSTART:20211107T060000
END:STANDARD
BEGIN:DAYLIGHT
TZOFFSETFROM:-0500
TZOFFSETTO:-0400
TZNAME:EDT
DTSTART:20220313T070000
END:DAYLIGHT
BEGIN:STANDARD
TZOFFSETFROM:-0400
TZOFFSETTO:-0500
TZNAME:EST
DTSTART:20221106T060000
END:STANDARD
BEGIN:DAYLIGHT
TZOFFSETFROM:-0500
TZOFFSETTO:-0400
TZNAME:EDT
DTSTART:20230312T070000
END:DAYLIGHT
BEGIN:STANDARD
TZOFFSETFROM:-0400
TZOFFSETTO:-0500
TZNAME:EST
DTSTART:20231105T060000
END:STANDARD
END:VTIMEZONE
BEGIN:VEVENT
DTSTART;TZID=America/Toronto:20220504T130000
DTEND;TZID=America/Toronto:20220504T150000
DTSTAMP:20260422T084113
CREATED:20220402T231221Z
LAST-MODIFIED:20220402T231221Z
UID:10000311-1651669200-1651676400@www.rabc-cccr.ca
SUMMARY:5G Radio Altimeter Working Group
DESCRIPTION:5G Radio Altimeter Working Group
URL:https://www.rabc-cccr.ca/event/5g-radio-altimeter-working-group-11/
CATEGORIES:RABC Working Group
END:VEVENT
BEGIN:VEVENT
DTSTART;TZID=America/Toronto:20220509T140000
DTEND;TZID=America/Toronto:20220509T160000
DTSTAMP:20260422T084113
CREATED:20220503T204020Z
LAST-MODIFIED:20220503T204020Z
UID:10000312-1652104800-1652112000@www.rabc-cccr.ca
SUMMARY:Fixed Wireless Communications Committee
DESCRIPTION:Fixed Wireless Communications Committee
URL:https://www.rabc-cccr.ca/event/fixed-wireless-communications-committee/
CATEGORIES:Committee Meeting
END:VEVENT
BEGIN:VEVENT
DTSTART;TZID=America/Toronto:20220513T133000
DTEND;TZID=America/Toronto:20220513T150000
DTSTAMP:20260422T084113
CREATED:20220504T200520Z
LAST-MODIFIED:20220504T200520Z
UID:10000313-1652448600-1652454000@www.rabc-cccr.ca
SUMMARY:Spectrum Management Innovation Committee
DESCRIPTION:Spectrum Management Innovation Committee
URL:https://www.rabc-cccr.ca/event/spectrum-management-innovation-committee-3/
CATEGORIES:Committee Meeting
END:VEVENT
BEGIN:VEVENT
DTSTART;TZID=America/Toronto:20220517T100000
DTEND;TZID=America/Toronto:20220517T120000
DTSTAMP:20260422T084113
CREATED:20220516T130839Z
LAST-MODIFIED:20220516T130839Z
UID:10000314-1652781600-1652788800@www.rabc-cccr.ca
SUMMARY:Fixed Wireless Communications Committee
DESCRIPTION:Fixed Wireless Communications Committee
URL:https://www.rabc-cccr.ca/event/fixed-wireless-communications-committee-2/
CATEGORIES:Committee Meeting
END:VEVENT
END:VCALENDAR