BEGIN:VCALENDAR
VERSION:2.0
PRODID:-//RABC-CCCR  - ECPv6.15.20//NONSGML v1.0//EN
CALSCALE:GREGORIAN
METHOD:PUBLISH
X-WR-CALNAME:RABC-CCCR 
X-ORIGINAL-URL:https://www.rabc-cccr.ca
X-WR-CALDESC:Events for RABC-CCCR 
REFRESH-INTERVAL;VALUE=DURATION:PT1H
X-Robots-Tag:noindex
X-PUBLISHED-TTL:PT1H
BEGIN:VTIMEZONE
TZID:America/Toronto
BEGIN:DAYLIGHT
TZOFFSETFROM:-0500
TZOFFSETTO:-0400
TZNAME:EDT
DTSTART:20210314T070000
END:DAYLIGHT
BEGIN:STANDARD
TZOFFSETFROM:-0400
TZOFFSETTO:-0500
TZNAME:EST
DTSTART:20211107T060000
END:STANDARD
BEGIN:DAYLIGHT
TZOFFSETFROM:-0500
TZOFFSETTO:-0400
TZNAME:EDT
DTSTART:20220313T070000
END:DAYLIGHT
BEGIN:STANDARD
TZOFFSETFROM:-0400
TZOFFSETTO:-0500
TZNAME:EST
DTSTART:20221106T060000
END:STANDARD
BEGIN:DAYLIGHT
TZOFFSETFROM:-0500
TZOFFSETTO:-0400
TZNAME:EDT
DTSTART:20230312T070000
END:DAYLIGHT
BEGIN:STANDARD
TZOFFSETFROM:-0400
TZOFFSETTO:-0500
TZNAME:EST
DTSTART:20231105T060000
END:STANDARD
END:VTIMEZONE
BEGIN:VEVENT
DTSTART;TZID=America/Toronto:20220601T140000
DTEND;TZID=America/Toronto:20220601T160000
DTSTAMP:20260422T071724
CREATED:20220516T130927Z
LAST-MODIFIED:20220516T130927Z
UID:10000315-1654092000-1654099200@www.rabc-cccr.ca
SUMMARY:Fixed Wireless Communications Committee
DESCRIPTION:Fixed Wireless Communications Committee
URL:https://www.rabc-cccr.ca/event/fixed-wireless-communications-committee-3/
CATEGORIES:Committee Meeting
END:VEVENT
BEGIN:VEVENT
DTSTART;TZID=America/Toronto:20220607T140000
DTEND;TZID=America/Toronto:20220607T160000
DTSTAMP:20260422T071724
CREATED:20220516T131040Z
LAST-MODIFIED:20220516T131040Z
UID:10000316-1654610400-1654617600@www.rabc-cccr.ca
SUMMARY:Fixed Wireless Communications Committee
DESCRIPTION:Fixed Wireless Communications Committee
URL:https://www.rabc-cccr.ca/event/fixed-wireless-communications-committee-4/
CATEGORIES:Committee Meeting
END:VEVENT
BEGIN:VEVENT
DTSTART;VALUE=DATE:20220608
DTEND;VALUE=DATE:20220609
DTSTAMP:20260422T071724
CREATED:20210318T013627Z
LAST-MODIFIED:20220325T012812Z
UID:10000291-1654646400-1654732799@www.rabc-cccr.ca
SUMMARY:Executive Committee
DESCRIPTION:Executive Committee
URL:https://www.rabc-cccr.ca/event/executive-committee-18/
CATEGORIES:Committee Meeting
END:VEVENT
BEGIN:VEVENT
DTSTART;VALUE=DATE:20220609
DTEND;VALUE=DATE:20220610
DTSTAMP:20260422T071724
CREATED:20210318T013704Z
LAST-MODIFIED:20220325T012855Z
UID:10000292-1654732800-1654819199@www.rabc-cccr.ca
SUMMARY:AGM
DESCRIPTION:AGM
URL:https://www.rabc-cccr.ca/event/agm-3/
CATEGORIES:AGM
END:VEVENT
BEGIN:VEVENT
DTSTART;VALUE=DATE:20220609
DTEND;VALUE=DATE:20220610
DTSTAMP:20260422T071724
CREATED:20210318T013755Z
LAST-MODIFIED:20220325T012930Z
UID:10000293-1654732800-1654819199@www.rabc-cccr.ca
SUMMARY:Quarterly Meeting
DESCRIPTION:Quarterly Meeting
URL:https://www.rabc-cccr.ca/event/quarterly-meeting-15/
CATEGORIES:Quarterly Meeting
END:VEVENT
BEGIN:VEVENT
DTSTART;TZID=America/Toronto:20220615T140000
DTEND;TZID=America/Toronto:20220615T160000
DTSTAMP:20260422T071724
CREATED:20220516T131131Z
LAST-MODIFIED:20220516T131131Z
UID:10000317-1655301600-1655308800@www.rabc-cccr.ca
SUMMARY:Fixed Wireless Communications Committee
DESCRIPTION:Fixed Wireless Communications Committee
URL:https://www.rabc-cccr.ca/event/fixed-wireless-communications-committee-5/
CATEGORIES:Committee Meeting
END:VEVENT
BEGIN:VEVENT
DTSTART;TZID=America/Toronto:20220621T140000
DTEND;TZID=America/Toronto:20220621T160000
DTSTAMP:20260422T071724
CREATED:20220516T131208Z
LAST-MODIFIED:20220516T131208Z
UID:10000318-1655820000-1655827200@www.rabc-cccr.ca
SUMMARY:Fixed Wireless Communications Committee
DESCRIPTION:Fixed Wireless Communications Committee
URL:https://www.rabc-cccr.ca/event/fixed-wireless-communications-committee-6/
CATEGORIES:Committee Meeting
END:VEVENT
BEGIN:VEVENT
DTSTART;TZID=America/Toronto:20220622T133000
DTEND;TZID=America/Toronto:20220622T150000
DTSTAMP:20260422T071724
CREATED:20220616T181946Z
LAST-MODIFIED:20220616T181946Z
UID:10000320-1655904600-1655910000@www.rabc-cccr.ca
SUMMARY:Safety Code 6 subcommittee
DESCRIPTION:Safety Code 6 subcommittee
URL:https://www.rabc-cccr.ca/event/safety-code-6-subcommittee-4/
CATEGORIES:Committee Meeting
END:VEVENT
BEGIN:VEVENT
DTSTART;TZID=America/Toronto:20220629T140000
DTEND;TZID=America/Toronto:20220629T160000
DTSTAMP:20260422T071724
CREATED:20220516T133050Z
LAST-MODIFIED:20220516T133050Z
UID:10000319-1656511200-1656518400@www.rabc-cccr.ca
SUMMARY:Fixed Wireless Communications Committee
DESCRIPTION:Fixed Wireless Communications Committee
URL:https://www.rabc-cccr.ca/event/fixed-wireless-communications-committee-7/
CATEGORIES:Committee Meeting
END:VEVENT
END:VCALENDAR