BEGIN:VCALENDAR
VERSION:2.0
PRODID:-//RABC-CCCR  - ECPv6.15.20//NONSGML v1.0//EN
CALSCALE:GREGORIAN
METHOD:PUBLISH
X-WR-CALNAME:RABC-CCCR 
X-ORIGINAL-URL:https://www.rabc-cccr.ca
X-WR-CALDESC:Events for RABC-CCCR 
REFRESH-INTERVAL;VALUE=DURATION:PT1H
X-Robots-Tag:noindex
X-PUBLISHED-TTL:PT1H
BEGIN:VTIMEZONE
TZID:America/Toronto
BEGIN:DAYLIGHT
TZOFFSETFROM:-0500
TZOFFSETTO:-0400
TZNAME:EDT
DTSTART:20210314T070000
END:DAYLIGHT
BEGIN:STANDARD
TZOFFSETFROM:-0400
TZOFFSETTO:-0500
TZNAME:EST
DTSTART:20211107T060000
END:STANDARD
BEGIN:DAYLIGHT
TZOFFSETFROM:-0500
TZOFFSETTO:-0400
TZNAME:EDT
DTSTART:20220313T070000
END:DAYLIGHT
BEGIN:STANDARD
TZOFFSETFROM:-0400
TZOFFSETTO:-0500
TZNAME:EST
DTSTART:20221106T060000
END:STANDARD
BEGIN:DAYLIGHT
TZOFFSETFROM:-0500
TZOFFSETTO:-0400
TZNAME:EDT
DTSTART:20230312T070000
END:DAYLIGHT
BEGIN:STANDARD
TZOFFSETFROM:-0400
TZOFFSETTO:-0500
TZNAME:EST
DTSTART:20231105T060000
END:STANDARD
END:VTIMEZONE
BEGIN:VEVENT
DTSTART;TZID=America/Toronto:20220713T130000
DTEND;TZID=America/Toronto:20220713T143000
DTSTAMP:20260422T054833
CREATED:20220711T133152Z
LAST-MODIFIED:20220711T133152Z
UID:10000165-1657717200-1657722600@www.rabc-cccr.ca
SUMMARY:EMC Committee
DESCRIPTION:EMC Committee
URL:https://www.rabc-cccr.ca/event/emc-committee-5/
CATEGORIES:Committee Meeting
END:VEVENT
BEGIN:VEVENT
DTSTART;TZID=America/Toronto:20220719T140000
DTEND;TZID=America/Toronto:20220719T160000
DTSTAMP:20260422T054833
CREATED:20220706T170433Z
LAST-MODIFIED:20220706T170433Z
UID:10000163-1658239200-1658246400@www.rabc-cccr.ca
SUMMARY:RABC Review of SPB-001-22
DESCRIPTION:RABC Review of SPB-001-22
URL:https://www.rabc-cccr.ca/event/rabc-review-of-spb-001-22/
CATEGORIES:RABC Review
END:VEVENT
END:VCALENDAR